BEGIN:VCALENDAR
VERSION:2.0
PRODID:spatie/icalendar-generator
DESCRIPTION:Events from St John&amp;#039\;s Episcopal Church
X-WR-CALDESC:Events from St John&amp;#039\;s Episcopal Church
REFRESH-INTERVAL;VALUE=DURATION:PT1440M
X-PUBLISHED-TTL:PT1440M
BEGIN:VTIMEZONE
TZID:Etc/GMT+4
BEGIN:STANDARD
DTSTART:20250727T120000Z
TZOFFSETFROM:-0400
TZOFFSETTO:-0400
END:STANDARD
END:VTIMEZONE
BEGIN:VTIMEZONE
TZID:UTC
BEGIN:STANDARD
DTSTART:20250727T145631Z
TZOFFSETFROM:+0000
TZOFFSETTO:+0000
END:STANDARD
END:VTIMEZONE
BEGIN:VEVENT
UID:2189-348
DTSTAMP:20260423T145631Z
SUMMARY:AA - Discussion Group
LOCATION:
ORGANIZER;CN=httpme65:MAILTO:darlene@insitemediadesign.com
RRULE:FREQ=WEEKLY;UNTIL=20270527T000000Z
DTSTART;TZID=Etc/GMT+4:20260423T120000
DTEND;TZID=Etc/GMT+4:20260423T130000
X-ALT-DESC;FMTTYPE=TEXT/HTML:In Parish Hall
CATEGORIES:AA Meetings
URL;VALUE=URI:http://stjohnssandwich.org/events-calendar/?mc_id=2189&#038;v
 cal=2189
METHOD:PUBLISH
END:VEVENT
END:VCALENDAR