BEGIN:VCALENDAR
VERSION:2.0
PRODID:spatie/icalendar-generator
DESCRIPTION:Events from St John&amp;#039\;s Episcopal Church
X-WR-CALDESC:Events from St John&amp;#039\;s Episcopal Church
REFRESH-INTERVAL;VALUE=DURATION:PT1440M
X-PUBLISHED-TTL:PT1440M
BEGIN:VTIMEZONE
TZID:Etc/GMT+4
BEGIN:STANDARD
DTSTART:20250703T100000Z
TZOFFSETFROM:-0400
TZOFFSETTO:-0400
END:STANDARD
END:VTIMEZONE
BEGIN:VTIMEZONE
TZID:UTC
BEGIN:STANDARD
DTSTART:20250727T150846Z
TZOFFSETFROM:+0000
TZOFFSETTO:+0000
END:STANDARD
END:VTIMEZONE
BEGIN:VEVENT
UID:2655-352
DTSTAMP:20260423T150846Z
SUMMARY:Stepping Stones Al-Anon Family Group
LOCATION:
ORGANIZER;CN=httpme65:MAILTO:darlene@insitemediadesign.com
RRULE:FREQ=WEEKLY;UNTIL=20270531T000000Z
DTSTART;TZID=Etc/GMT+4:20260330T100000
DTEND;TZID=Etc/GMT+4:20260330T110000
X-ALT-DESC;FMTTYPE=TEXT/HTML:
CATEGORIES:AA Meetings
URL;VALUE=URI:http://stjohnssandwich.org/events-calendar/?mc_id=2655&#038;v
 cal=2655
METHOD:PUBLISH
END:VEVENT
END:VCALENDAR