BEGIN:VCALENDAR
VERSION:2.0
PRODID:spatie/icalendar-generator
DESCRIPTION:Events from St John&amp;#039\;s Episcopal Church
X-WR-CALDESC:Events from St John&amp;#039\;s Episcopal Church
REFRESH-INTERVAL;VALUE=DURATION:PT1440M
X-PUBLISHED-TTL:PT1440M
BEGIN:VTIMEZONE
TZID:Etc/GMT+4
BEGIN:STANDARD
DTSTART:20250731T163000Z
TZOFFSETFROM:-0400
TZOFFSETTO:-0400
END:STANDARD
END:VTIMEZONE
BEGIN:VTIMEZONE
TZID:UTC
BEGIN:STANDARD
DTSTART:20250727T150741Z
TZOFFSETFROM:+0000
TZOFFSETTO:+0000
END:STANDARD
END:VTIMEZONE
BEGIN:VEVENT
UID:3053-399
DTSTAMP:20260423T150741Z
SUMMARY:Lasit Performing Arts
LOCATION:
ORGANIZER;CN=parishadmin:MAILTO:parishadmin@sjchurchsandwich.org
RRULE:FREQ=WEEKLY;UNTIL=20260519T000000Z
DTSTART;TZID=Etc/GMT+4:20260427T163000
DTEND;TZID=Etc/GMT+4:20260427T203000
X-ALT-DESC;FMTTYPE=TEXT/HTML:
CATEGORIES:General
URL;VALUE=URI:http://stjohnssandwich.org/events-calendar/?mc_id=3053&#038;v
 cal=3053
METHOD:PUBLISH
END:VEVENT
END:VCALENDAR