BEGIN:VCALENDAR
VERSION:2.0
PRODID:spatie/icalendar-generator
DESCRIPTION:Events from St John&amp;#039\;s Episcopal Church
X-WR-CALDESC:Events from St John&amp;#039\;s Episcopal Church
REFRESH-INTERVAL;VALUE=DURATION:PT1440M
X-PUBLISHED-TTL:PT1440M
BEGIN:VTIMEZONE
TZID:Etc/GMT+4
BEGIN:STANDARD
DTSTART:20250722T093000Z
TZOFFSETFROM:-0400
TZOFFSETTO:-0400
END:STANDARD
END:VTIMEZONE
BEGIN:VTIMEZONE
TZID:UTC
BEGIN:STANDARD
DTSTART:20250727T145633Z
TZOFFSETFROM:+0000
TZOFFSETTO:+0000
END:STANDARD
END:VTIMEZONE
BEGIN:VEVENT
UID:3101-414
DTSTAMP:20260423T145633Z
SUMMARY:AA
LOCATION:
ORGANIZER;CN=parishadmin:MAILTO:parishadmin@sjchurchsandwich.org
RRULE:FREQ=WEEKLY;UNTIL=20261226T000000Z
DTSTART;TZID=Etc/GMT+4:20260418T093000
DTEND;TZID=Etc/GMT+4:20260418T103000
X-ALT-DESC;FMTTYPE=TEXT/HTML:
CATEGORIES:AA Meetings
URL;VALUE=URI:http://stjohnssandwich.org/events-calendar/?mc_id=3101&#038;v
 cal=3101
METHOD:PUBLISH
END:VEVENT
END:VCALENDAR