BEGIN:VCALENDAR
VERSION:2.0
PRODID:spatie/icalendar-generator
DESCRIPTION:Events from St John&amp;#039\;s Episcopal Church
X-WR-CALDESC:Events from St John&amp;#039\;s Episcopal Church
REFRESH-INTERVAL;VALUE=DURATION:PT1440M
X-PUBLISHED-TTL:PT1440M
BEGIN:VTIMEZONE
TZID:Etc/GMT+4
BEGIN:STANDARD
DTSTART:20250725T190000Z
TZOFFSETFROM:-0400
TZOFFSETTO:-0400
END:STANDARD
END:VTIMEZONE
BEGIN:VTIMEZONE
TZID:UTC
BEGIN:STANDARD
DTSTART:20250727T145042Z
TZOFFSETFROM:+0000
TZOFFSETTO:+0000
END:STANDARD
END:VTIMEZONE
BEGIN:VEVENT
UID:3146-424
DTSTAMP:20260423T145042Z
SUMMARY:Caring for Creation Series Presentation
LOCATION:
ORGANIZER;CN=parishadmin:MAILTO:parishadmin@sjchurchsandwich.org
DTSTART;TZID=Etc/GMT+4:20260421T190000
DTEND;TZID=Etc/GMT+4:20260421T200000
X-ALT-DESC;FMTTYPE=TEXT/HTML:Join us on April 21 for “State of the Cape\,
 ” a presentation on waste and recycling on Cape Cod.  The presentation 
 will include information on managing household hazardous waste\, current c
 onditions regarding solid waste disposal in the Commonwealth and on the Ca
 pe\, an update on the trash train\, and the latest on management of rechar
 geable&amp;hellip\;
CATEGORIES:General
URL;VALUE=URI:http://stjohnssandwich.org/events-calendar/?mc_id=3146&#038;v
 cal=3146
METHOD:PUBLISH
END:VEVENT
END:VCALENDAR